BEGIN:VCALENDAR
PRODID:-//AT Content Types//AT Event//EN
VERSION:2.0
METHOD:PUBLISH
BEGIN:VEVENT
DTSTAMP:20260423T052538Z
CREATED:20180810T100753Z
UID:ATEvent-624e195f987a5bfebc1a67591eaef811
LAST-MODIFIED:20180810T100753Z
SUMMARY:21 Aug Opening up government: Let’s make Scotland work for you! (Edinburgh)
DTSTART:20180821T083000Z
DTEND:20180821T120000Z
DESCRIPTION:Hanover Conference Centre\, McDonald Road\, Leith\n\nhttps
 ://www.eventbrite.co.uk/e/opening-up-government-lets-make-scotland-wor
 k-for-you-tickets-47922388153
CLASS:PUBLIC
END:VEVENT
END:VCALENDAR
