BEGIN:VCALENDAR
PRODID:-//AT Content Types//AT Event//EN
VERSION:2.0
METHOD:PUBLISH
BEGIN:VEVENT
DTSTAMP:20260423T052125Z
CREATED:20180810T100753Z
UID:ATEvent-b9834695a6eada5d5183287fca523ad3
LAST-MODIFIED:20180810T100753Z
SUMMARY:Opening up government: Let’s make Scotland work for you! (Glasgow)
DTSTART:20180813T120000Z
DTEND:20180813T143000Z
DESCRIPTION:The Albany\, 44 Ashley Street\, Glasgow\, G3 6DS\n\nhttps:
 //www.eventbrite.co.uk/e/opening-up-government-lets-make-scotland-work
 -for-you-tickets-47954053866?aff=erelpanelorg
CLASS:PUBLIC
END:VEVENT
END:VCALENDAR
