BEGIN:VCALENDAR
PRODID:-//AT Content Types//AT Event//EN
VERSION:2.0
METHOD:PUBLISH
BEGIN:VEVENT
DTSTAMP:20260423T052537Z
CREATED:20180810T100752Z
UID:ATEvent-97fbe0cc6e09e51a00e7cd798158845f
LAST-MODIFIED:20180810T100752Z
SUMMARY:Opening up government: Let’s make Scotland work for you! (Inverness)
DTSTART:20180815T120000Z
DTEND:20180815T143000Z
DESCRIPTION:Spectrum Centre\, Inverness\n\nhttps://www.eventbrite.co.u
 k/e/opening-up-government-lets-make-scotland-work-for-you-tickets-4792
 2996974?aff=erelpanelorg
CLASS:PUBLIC
END:VEVENT
END:VCALENDAR
