BEGIN:VCALENDAR
PRODID:-//AT Content Types//AT Event//EN
VERSION:2.0
METHOD:PUBLISH
BEGIN:VEVENT
DTSTAMP:20260420T152810Z
CREATED:20201208T104206Z
UID:ATEvent-7f1ca306909b4b568630b3a6159889ba
LAST-MODIFIED:20210219T110418Z
SUMMARY:New Build Heat Standard - Scoping Consultation: Consumers Workshop
DTSTART:20210216T110000Z
DTEND:20210216T130000Z
DESCRIPTION:https://www.eventbrite.com/e/new-build-heat-standard-scopi
 ng-consultation-consumer-webinar-workshop-tickets-132209280517
CLASS:PUBLIC
END:VEVENT
END:VCALENDAR
