BEGIN:VCALENDAR
PRODID:-//AT Content Types//AT Event//EN
VERSION:2.0
METHOD:PUBLISH
BEGIN:VEVENT
DTSTAMP:20260420T152050Z
CREATED:20201209T081419Z
UID:ATEvent-572375bef4364fedbd83b92dc252284b
LAST-MODIFIED:20210219T110417Z
SUMMARY:New Build Heat Standard - Scoping Consultation: Islands Workshop
DTSTART:20210217T140000Z
DTEND:20210217T160000Z
DESCRIPTION:https://www.eventbrite.com/e/new-build-heat-standard-scopi
 ng-consultation-islands-webinar-workshop-tickets-132209495159
CLASS:PUBLIC
END:VEVENT
END:VCALENDAR
