BEGIN:VCALENDAR
PRODID:-//AT Content Types//AT Event//EN
VERSION:2.0
METHOD:PUBLISH
BEGIN:VEVENT
DTSTAMP:20260420T152724Z
CREATED:20201208T103749Z
UID:ATEvent-bf9217072961476f94d4cf2e5cf6dd0b
LAST-MODIFIED:20210219T110417Z
SUMMARY:New Build Heat Standard - Scoping Consultation: Business/ Industry Workshop
DTSTART:20210215T110000Z
DTEND:20210215T130000Z
DESCRIPTION:https://www.eventbrite.com/e/new-build-heat-standard-scopi
 ng-consultation-business-webinar-workshop-tickets-132209033779
CLASS:PUBLIC
END:VEVENT
END:VCALENDAR
