BEGIN:VCALENDAR
PRODID:-//AT Content Types//AT Event//EN
VERSION:2.0
METHOD:PUBLISH
BEGIN:VEVENT
DTSTAMP:20260424T104454Z
CREATED:20250130T151850Z
UID:ATEvent-df05dba87ac248db99e1b9f7ad846ff7
LAST-MODIFIED:20250212T172728Z
SUMMARY:EPC Reform Workshop 1
DTSTART:20250303T100000Z
DTEND:20250303T120000Z
DESCRIPTION:An online session for those interested in discussing our o
 ngoing work on EPC Reform.
CLASS:PUBLIC
END:VEVENT
END:VCALENDAR
