BEGIN:VCALENDAR
PRODID:-//AT Content Types//AT Event//EN
VERSION:2.0
METHOD:PUBLISH
BEGIN:VEVENT
DTSTAMP:20260421T213512Z
CREATED:20230619T164452Z
UID:ATEvent-1c4b2c73c0e2479fa87760a4f7fa6037
LAST-MODIFIED:20230905T133521Z
SUMMARY:Effectiveness of Environmental Governance - Workshop Three - All Stakeholders
DTSTART:20230912T100000Z
DTEND:20230912T110000Z
DESCRIPTION:This session is for all stakeholders. These events will be
  hybrid or fully hosted on Microsoft Teams. Please register your inter
 est by emailing EnviroGovReview@gov.scot
CLASS:PUBLIC
END:VEVENT
END:VCALENDAR
