BEGIN:VCALENDAR
PRODID:-//AT Content Types//AT Event//EN
VERSION:2.0
METHOD:PUBLISH
BEGIN:VEVENT
DTSTAMP:20260421T213025Z
CREATED:20230619T164452Z
UID:ATEvent-4dafba354fa544fa8bea609c68ccf281
LAST-MODIFIED:20230905T133521Z
SUMMARY:Effectiveness of Environmental Governance - Workshop One - Public Bodies and Local Authorities
DTSTART:20230905T100000Z
DTEND:20230905T110000Z
DESCRIPTION:There are three consultation events related to this consul
 tation and these are open to anyone who is interested to attend. We ha
 ve highlighted types of participant for the first two sessions\, as th
 e material will be tailored for specific stakeholders\, while the thir
 d session will be for all stakeholders. This first session is focused 
 on public bodies and local authorities. \n\nThese events will be hybri
 d or fully hosted on Microsoft Teams. Please register your interest by
  emailing EnviroGovReview@gov.scot
CLASS:PUBLIC
END:VEVENT
END:VCALENDAR
