BEGIN:VCALENDAR
PRODID:-//AT Content Types//AT Event//EN
VERSION:2.0
METHOD:PUBLISH
BEGIN:VEVENT
DTSTAMP:20260421T213604Z
CREATED:20230619T164452Z
UID:ATEvent-f5fe3f9220b049b9a43176451208f4c6
LAST-MODIFIED:20230905T133521Z
SUMMARY:Effectiveness of Environmental Governance - Workshop Two - eNGOs and Community Groups
DTSTART:20230907T130000Z
DTEND:20230907T140000Z
DESCRIPTION:There are three consultation events related to this consul
 tation and these are open to anyone who is interested to attend. We ha
 ve highlighted types of participant for the first two sessions\, as th
 e material will be tailored for specific stakeholders\, while the thir
 d session will be for all stakeholders. This second session is focused
  on environmental stakeholders and community groups.\n\nThese events w
 ill be hybrid or fully hosted on Microsoft Teams. Please register your
  interest by emailing EnviroGovReview@gov.scot
CLASS:PUBLIC
END:VEVENT
END:VCALENDAR
