BEGIN:VCALENDAR
PRODID:-//AT Content Types//AT Event//EN
VERSION:2.0
METHOD:PUBLISH
BEGIN:VEVENT
DTSTAMP:20260421T090654Z
CREATED:20230803T103814Z
UID:ATEvent-8a30c0deae444dc99da6568af3239c9c
LAST-MODIFIED:20240129T094047Z
SUMMARY:Community Consultation Event - British Deaf Assocation
DTSTART:20230812T103000Z
DTEND:20230812T123000Z
DESCRIPTION:St Vincents Deaf Club\n144 West Regent Street\nGlasgow\nG2
  2RQ
CLASS:PUBLIC
END:VEVENT
END:VCALENDAR
