BEGIN:VCALENDAR
PRODID:-//AT Content Types//AT Event//EN
VERSION:2.0
METHOD:PUBLISH
BEGIN:VEVENT
DTSTAMP:20260421T125620Z
CREATED:20230803T103815Z
UID:ATEvent-bce7eda514594f5292ab25cd5c3a66d0
LAST-MODIFIED:20240129T094047Z
SUMMARY:Community Consultation Event - British Deaf Assocation
DTSTART:20230819T120000Z
DTEND:20230819T140000Z
DESCRIPTION:The Stove Network Café\n100 High Street\nDumfries\nDG1 2B
 J
CLASS:PUBLIC
END:VEVENT
END:VCALENDAR
