BEGIN:VCALENDAR
PRODID:-//AT Content Types//AT Event//EN
VERSION:2.0
METHOD:PUBLISH
BEGIN:VEVENT
DTSTAMP:20260421T090714Z
CREATED:20230807T120859Z
UID:ATEvent-28ecf6af760245eb95387c340090628e
LAST-MODIFIED:20240129T094047Z
SUMMARY:Online Community Consultation Event - British Deaf Association
DTSTART:20230823T170000Z
DTEND:20230823T190000Z
DESCRIPTION:Deaf LGBTQIA+\nContact Avril Hepner on avril.hepner@bda.or
 g.uk for further details.
CLASS:PUBLIC
END:VEVENT
END:VCALENDAR
