BEGIN:VCALENDAR
PRODID:-//AT Content Types//AT Event//EN
VERSION:2.0
METHOD:PUBLISH
BEGIN:VEVENT
DTSTAMP:20260422T151026Z
CREATED:20221020T181354Z
UID:ATEvent-8b9a5542688341ef929e75100d5142d3
LAST-MODIFIED:20240207T160620Z
SUMMARY:Ballater Stakeholder Engagement Event
DTSTART:20221122T103000Z
DTEND:20221122T123000Z
DESCRIPTION:Sign up to the event:\nhttps://www.eventbrite.co.uk/e/4451
 42752957
CLASS:PUBLIC
END:VEVENT
END:VCALENDAR
