BEGIN:VCALENDAR
PRODID:-//AT Content Types//AT Event//EN
VERSION:2.0
METHOD:PUBLISH
BEGIN:VEVENT
DTSTAMP:20260422T151020Z
CREATED:20221020T181354Z
UID:ATEvent-007e6a1b66534eba9ee49c0bd744b5f0
LAST-MODIFIED:20240207T160620Z
SUMMARY:Edinburgh Stakeholder Engagement Event
DTSTART:20221116T103000Z
DTEND:20221116T123000Z
DESCRIPTION:Sign up to the event:\nhttps://www.eventbrite.co.uk/e/4451
 33475207
CLASS:PUBLIC
END:VEVENT
END:VCALENDAR
