BEGIN:VCALENDAR
PRODID:-//AT Content Types//AT Event//EN
VERSION:2.0
METHOD:PUBLISH
BEGIN:VEVENT
DTSTAMP:20260422T151017Z
CREATED:20221020T181355Z
UID:ATEvent-233faf184e00498098e1b7aa4eb1f987
LAST-MODIFIED:20240207T160620Z
SUMMARY:Glasgow Stakeholder Engagement Event
DTSTART:20221115T103000Z
DTEND:20221115T123000Z
DESCRIPTION:Sign up to the event:\nhttps://www.eventbrite.co.uk/e/4451
 31268607
CLASS:PUBLIC
END:VEVENT
END:VCALENDAR
