BEGIN:VCALENDAR
PRODID:-//AT Content Types//AT Event//EN
VERSION:2.0
METHOD:PUBLISH
BEGIN:VEVENT
DTSTAMP:20260422T151027Z
CREATED:20221020T181355Z
UID:ATEvent-d8bdac49c25f46f1994b4fb16d4f289f
LAST-MODIFIED:20240207T160620Z
SUMMARY:Inverness Stakeholder Engagement Event
DTSTART:20221103T103000Z
DTEND:20221103T123000Z
DESCRIPTION:Sign up to the event:\nhttps://www.eventbrite.co.uk/e/4451
 18620777
CLASS:PUBLIC
END:VEVENT
END:VCALENDAR
