BEGIN:VCALENDAR
PRODID:-//AT Content Types//AT Event//EN
VERSION:2.0
METHOD:PUBLISH
BEGIN:VEVENT
DTSTAMP:20260422T151026Z
CREATED:20221020T181354Z
UID:ATEvent-dae8d6cd44034b6aa7eefa0a6c77d3ac
LAST-MODIFIED:20240207T160620Z
SUMMARY:Kirriemuir Stakeholder Engagement Event
DTSTART:20221121T103000Z
DTEND:20221121T123000Z
DESCRIPTION:Sign up to the event:\nhttps://www.eventbrite.co.uk/e/4451
 37045887
CLASS:PUBLIC
END:VEVENT
END:VCALENDAR
