BEGIN:VCALENDAR
PRODID:-//AT Content Types//AT Event//EN
VERSION:2.0
METHOD:PUBLISH
BEGIN:VEVENT
DTSTAMP:20260422T151017Z
CREATED:20221020T181355Z
UID:ATEvent-fd764fae9c3b4dbe9fb58b73903281cc
LAST-MODIFIED:20240207T160620Z
SUMMARY:Orkney Stakeholder Engagement Event
DTSTART:20221101T103000Z
DTEND:20221101T123000Z
DESCRIPTION:Sign up to the event:\nhttps://www.eventbrite.co.uk/e/4451
 06384177
CLASS:PUBLIC
END:VEVENT
END:VCALENDAR
