BEGIN:VCALENDAR
PRODID:-//AT Content Types//AT Event//EN
VERSION:2.0
METHOD:PUBLISH
BEGIN:VEVENT
DTSTAMP:20260422T150919Z
CREATED:20221020T181355Z
UID:ATEvent-3a78701b7d7b4b5f8615723469f4f511
LAST-MODIFIED:20240207T160620Z
SUMMARY:Scottish Borders Stakeholder Engagement Event
DTSTART:20221108T103000Z
DTEND:20221108T123000Z
DESCRIPTION:Sign up to the event:\nhttps://www.eventbrite.co.uk/e/4451
 29082067
CLASS:PUBLIC
END:VEVENT
END:VCALENDAR
