BEGIN:VCALENDAR
PRODID:-//AT Content Types//AT Event//EN
VERSION:2.0
METHOD:PUBLISH
BEGIN:VEVENT
DTSTAMP:20260422T223053Z
CREATED:20211028T081857Z
UID:ATEvent-3988638c81c54fc6926b37b5749a46ca
LAST-MODIFIED:20211101T094402Z
SUMMARY:Recorded Crime and Police Activity Statistics - Consultation Event
DTSTART:20211109T130000Z
DTEND:20211109T143000Z
DESCRIPTION:This event is open to all organisations and individuals wh
 o have an interest in this topic. Statisticians will give a presentati
 on on the areas covered in the consultation\, and attendees will have 
 the opportunity to discuss further\, provide feedback and ask question
 s. Any feedback collected will be in addition to responses received th
 rough the Citizen Space consultation hub.
CLASS:PUBLIC
END:VEVENT
END:VCALENDAR
