BEGIN:VCALENDAR
PRODID:-//AT Content Types//AT Event//EN
VERSION:2.0
METHOD:PUBLISH
BEGIN:VEVENT
DTSTAMP:20260423T105238Z
CREATED:20210618T140216Z
UID:ATEvent-6fc2ad978a0144b681b681c85c7f2a15
LAST-MODIFIED:20221118T085943Z
SUMMARY:Fireworks Consultation Engagement Event 1
DTSTART:20210624T130000Z
DTEND:20210624T150000Z
DESCRIPTION:This event will provide opportunities for people to come t
 ogether to  discuss the proposed changes in more detail and to identif
 y and discuss the practical implications of each.\n\nCopy and paste th
 is link into a new browser tab to register: https://bit.ly/2Ufos6q
CLASS:PUBLIC
END:VEVENT
END:VCALENDAR
