BEGIN:VCALENDAR
PRODID:-//AT Content Types//AT Event//EN
VERSION:2.0
METHOD:PUBLISH
BEGIN:VEVENT
DTSTAMP:20260423T104716Z
CREATED:20210618T140627Z
UID:ATEvent-03ce28b2834946bfa497b088bdad63d7
LAST-MODIFIED:20221118T085943Z
SUMMARY:Fireworks Consultation Engagement Event 2
DTSTART:20210630T170000Z
DTEND:20210630T190000Z
DESCRIPTION:This event will provide opportunities for people to come t
 ogether to  discuss the proposed changes in more detail and to identif
 y and discuss the practical implications of each.\n\nCopy and paste th
 is link into a new browser tab to register: https://bit.ly/3iSQOh8
CLASS:PUBLIC
END:VEVENT
END:VCALENDAR
