BEGIN:VCALENDAR
PRODID:-//AT Content Types//AT Event//EN
VERSION:2.0
METHOD:PUBLISH
BEGIN:VEVENT
DTSTAMP:20260420T001817Z
CREATED:20250507T164350Z
UID:ATEvent-9a00cd2939664cb2aab38c36ad64c992
LAST-MODIFIED:20250530T085937Z
SUMMARY:Stakeholder meeting
DTSTART:20250609T130000Z
DTEND:20250609T140000Z
DESCRIPTION:An opportunity for all stakeholders to meet with officials
  to discuss the consultation. Please email clydeherring@gov.scot to re
 gister
CLASS:PUBLIC
END:VEVENT
END:VCALENDAR
