BEGIN:VCALENDAR
PRODID:-//AT Content Types//AT Event//EN
VERSION:2.0
METHOD:PUBLISH
BEGIN:VEVENT
DTSTAMP:20260420T223930Z
CREATED:20180122T143651Z
UID:ATEvent-4bfc22a4ca4bed4b190e0beac8288171
LAST-MODIFIED:20180124T123923Z
SUMMARY:Aberdeen: Scottish Government Safe Staffing Legislation
DTSTART:20180205T100000Z
DTEND:20180205T123000Z
DESCRIPTION:A Scottish Government engagement event to provide further 
 opportunity to discuss and contribute to the development of the safe s
 taffing legislation.\n\nRegister here: https://www.eventbrite.co.uk/e/
 scottish-government-safe-staffing-legislation-tickets-41307037461?utm_
 term=eventurl_text
CLASS:PUBLIC
END:VEVENT
END:VCALENDAR
