BEGIN:VCALENDAR
PRODID:-//AT Content Types//AT Event//EN
VERSION:2.0
METHOD:PUBLISH
BEGIN:VEVENT
DTSTAMP:20260420T223719Z
CREATED:20180122T143650Z
UID:ATEvent-b0ba53c3cbc9862084db926a4118a069
LAST-MODIFIED:20180124T123923Z
SUMMARY:Edinburgh: Scottish Government Safe Staffing Legislation
DTSTART:20180208T100000Z
DTEND:20180208T123000Z
DESCRIPTION:A Scottish Government engagement event to provide further 
 opportunity to discuss and contribute to the development of the safe s
 taffing legislation.\n\nRegister here: https://www.eventbrite.co.uk/e/
 scottish-government-safe-staffing-legislation-tickets-41307246085?utm_
 term=eventurl_text
CLASS:PUBLIC
END:VEVENT
END:VCALENDAR
