BEGIN:VCALENDAR
PRODID:-//AT Content Types//AT Event//EN
VERSION:2.0
METHOD:PUBLISH
BEGIN:VEVENT
DTSTAMP:20260420T223930Z
CREATED:20180122T143650Z
UID:ATEvent-0cfc3c9efab18f6e71c51bf6c080279b
LAST-MODIFIED:20180124T123923Z
SUMMARY:Glasgow: Scottish Government Safe Staffing Legislation
DTSTART:20180207T100000Z
DTEND:20180207T123000Z
DESCRIPTION:The purpose of the event is to provide an opportunity to d
 iscuss and contribute to the development of the safe staffing bill.\n\
 nRegister here: https://www.eventbrite.co.uk/e/scottish-government-saf
 e-staffing-legislation-tickets-41307212986?utm_term=eventurl_text
CLASS:PUBLIC
END:VEVENT
END:VCALENDAR
