BEGIN:VCALENDAR
PRODID:-//AT Content Types//AT Event//EN
VERSION:2.0
METHOD:PUBLISH
BEGIN:VEVENT
DTSTAMP:20260420T223839Z
CREATED:20180122T143651Z
UID:ATEvent-8220781ea433d46cc92a56a950a74fb4
LAST-MODIFIED:20180124T123922Z
SUMMARY:WebEx:  Scottish Government Safe Staffing Legislation
DTSTART:20180212T100000Z
DTEND:20180212T123000Z
DESCRIPTION:Email SafeStaffingBill@gov.scot
CLASS:PUBLIC
END:VEVENT
END:VCALENDAR
